BEGIN:VCALENDAR
VERSION:2.0
PRODID:-//wp-events-plugin.com//7.2.3.1//EN
BEGIN:VEVENT
UID:55@familienzentrum-altena.de
DTSTART;TZID=Europe/Berlin:20250513T153000
DTEND;TZID=Europe/Berlin:20250513T170000
DTSTAMP:20240629T142124Z
URL:https://familienzentrum-altena.de/events/wie-babys-essen-lernen/
SUMMARY:Wie Babys essen lernen
DESCRIPTION:Gerne essen\, gesund ernähren: Infos zur Beikost
ATTACH;FMTTYPE=image/jpeg:https://familienzentrum-altena.de/wp-content/upl
 oads/2023/01/Aktion-Obstkiste_2023-1.jpg
CATEGORIES:Familienthemen Mini
LOCATION:Familienbüro Altena\, Marktstraße 14-16\, Altena\, 58762\, Deuts
 chland
X-APPLE-STRUCTURED-LOCATION;VALUE=URI;X-ADDRESS=Marktstraße 14-16\, Altena
 \, 58762\, Deutschland;X-APPLE-RADIUS=100;X-TITLE=Familienbüro Altena:geo
 :0,0
END:VEVENT
BEGIN:VTIMEZONE
TZID:Europe/Berlin
X-LIC-LOCATION:Europe/Berlin
BEGIN:DAYLIGHT
DTSTART:20250330T030000
TZOFFSETFROM:+0100
TZOFFSETTO:+0200
TZNAME:CEST
END:DAYLIGHT
END:VTIMEZONE
END:VCALENDAR